BEGIN:VCALENDAR
VERSION:2.0
PRODID:-//Department Of Education//940f770b-5056-4093-b7c1-64c90e2b6577
BEGIN:VTIMEZONE
TZID:Australia/Sydney
TZURL:http://tzurl.org/zoneinfo-outlook/Australia/Sydney
X-LIC-LOCATION:Australia/Sydney
BEGIN:STANDARD
TZOFFSETFROM:+1100
TZOFFSETTO:+1000
TZNAME:AEST
DTSTART:19700405T030000
RRULE:FREQ=YEARLY;BYMONTH=4;BYDAY=1SU
END:STANDARD
BEGIN:DAYLIGHT
TZOFFSETFROM:+1000
TZOFFSETTO:+1100
TZNAME:AEDT
DTSTART:19701004T020000
RRULE:FREQ=YEARLY;BYMONTH=10;BYDAY=1SU
END:DAYLIGHT
END:VTIMEZONE
CALSCALE:GREGORIAN
X-WR-TIMEZONE:Australia/Sydney
BEGIN:VEVENT
DTSTART;TZID=Australia/Sydney:20200214T123000
DTEND;TZID=Australia/Sydney:20200214T150000
DTSTAMP:20200214T000000Z
UID:a644ea46-6fa0-4ec7-bb6c-ab244a6fb7c5
LOCATION:Kareela Sports Field and Gwawley Park
SUMMARY;LANGUAGE=en-us:PSSA AFL and Girls Soccer
RRULE:FREQ=WEEKLY;INTERVAL=1;UNTIL=20200313;
SEQUENCE:0
DESCRIPTION:AFL: Gwawley Park Soccer: Kareela Sports Fields
END:VEVENT
TRANSP:TRANSPARENT
END:VCALENDAR
