BEGIN:VCALENDAR
VERSION:2.0
PRODID:-//Department Of Education//a9fc8b85-86b7-4c7d-b8c6-a6c6bf1db5f3
BEGIN:VTIMEZONE
TZID:Australia/Sydney
TZURL:http://tzurl.org/zoneinfo-outlook/Australia/Sydney
X-LIC-LOCATION:Australia/Sydney
BEGIN:STANDARD
TZOFFSETFROM:+1100
TZOFFSETTO:+1000
TZNAME:AEST
DTSTART:19700405T030000
RRULE:FREQ=YEARLY;BYMONTH=4;BYDAY=1SU
END:STANDARD
BEGIN:DAYLIGHT
TZOFFSETFROM:+1000
TZOFFSETTO:+1100
TZNAME:AEDT
DTSTART:19701004T020000
RRULE:FREQ=YEARLY;BYMONTH=10;BYDAY=1SU
END:DAYLIGHT
END:VTIMEZONE
CALSCALE:GREGORIAN
X-WR-TIMEZONE:Australia/Sydney
BEGIN:VEVENT
DTSTART;TZID=Australia/Sydney:20200318T160000
DTEND;TZID=Australia/Sydney:20200318T183000
DTSTAMP:20200318T000000Z
UID:35ae8f54-e9ba-42d1-9433-febe18a1fd96
LOCATION:Miranda Public School 
SUMMARY;LANGUAGE=en-us:Harmony Day 2020
SEQUENCE:0
DESCRIPTION:More information about our Harmony Day celebrations and Food Festival to come
END:VEVENT
TRANSP:TRANSPARENT
END:VCALENDAR
