BEGIN:VCALENDAR
VERSION:2.0
PRODID:-//Department Of Education//754d512f-15b3-42ef-9770-800d67451d40
BEGIN:VTIMEZONE
TZID:Australia/Sydney
TZURL:http://tzurl.org/zoneinfo-outlook/Australia/Sydney
X-LIC-LOCATION:Australia/Sydney
BEGIN:STANDARD
TZOFFSETFROM:+1100
TZOFFSETTO:+1000
TZNAME:AEST
DTSTART:19700405T030000
RRULE:FREQ=YEARLY;BYMONTH=4;BYDAY=1SU
END:STANDARD
BEGIN:DAYLIGHT
TZOFFSETFROM:+1000
TZOFFSETTO:+1100
TZNAME:AEDT
DTSTART:19701004T020000
RRULE:FREQ=YEARLY;BYMONTH=10;BYDAY=1SU
END:DAYLIGHT
END:VTIMEZONE
CALSCALE:GREGORIAN
X-WR-TIMEZONE:Australia/Sydney
BEGIN:VEVENT
DTSTART;VALUE=DATE:20200409
DTEND;VALUE=DATE:20200410
DTSTAMP:20200409T000000Z
UID:64589ede-cca1-4514-87a6-475b503543d2
LOCATION:Miranda Public School 
SUMMARY;LANGUAGE=en-us:Easter Hat Parade
SEQUENCE:0
DESCRIPTION:More details to come, closer to the date
END:VEVENT
TRANSP:TRANSPARENT
END:VCALENDAR
