BEGIN:VCALENDAR
VERSION:2.0
PRODID:-//Department Of Education//8aaf4c8f-ddfd-44a5-9a2a-40baad69f994
BEGIN:VTIMEZONE
TZID:Australia/Sydney
TZURL:http://tzurl.org/zoneinfo-outlook/Australia/Sydney
X-LIC-LOCATION:Australia/Sydney
BEGIN:STANDARD
TZOFFSETFROM:+1100
TZOFFSETTO:+1000
TZNAME:AEST
DTSTART:19700405T030000
RRULE:FREQ=YEARLY;BYMONTH=4;BYDAY=1SU
END:STANDARD
BEGIN:DAYLIGHT
TZOFFSETFROM:+1000
TZOFFSETTO:+1100
TZNAME:AEDT
DTSTART:19701004T020000
RRULE:FREQ=YEARLY;BYMONTH=10;BYDAY=1SU
END:DAYLIGHT
END:VTIMEZONE
CALSCALE:GREGORIAN
X-WR-TIMEZONE:Australia/Sydney
BEGIN:VEVENT
DTSTART;VALUE=DATE:20200410
DTEND;VALUE=DATE:20200411
DTSTAMP:20200410T000000Z
UID:8d5be27f-299e-4728-9765-036e4939157e
LOCATION:Miranda Public School 
SUMMARY;LANGUAGE=en-us:Good Friday
SEQUENCE:0
DESCRIPTION:Good Friday - start of the holidays
END:VEVENT
TRANSP:TRANSPARENT
END:VCALENDAR
